BEGIN:VCALENDAR
VERSION:2.0
PRODID:-//Wellness Wise Academy - ECPv4.9.13//NONSGML v1.0//EN
CALSCALE:GREGORIAN
METHOD:PUBLISH
X-WR-CALNAME:Wellness Wise Academy
X-ORIGINAL-URL:https://wellnesswiseacademy.com.au
X-WR-CALDESC:Events for Wellness Wise Academy
BEGIN:VTIMEZONE
TZID:Australia/Sydney
BEGIN:STANDARD
TZOFFSETFROM:+1100
TZOFFSETTO:+1000
TZNAME:AEST
DTSTART:20200404T160000
END:STANDARD
BEGIN:DAYLIGHT
TZOFFSETFROM:+1000
TZOFFSETTO:+1100
TZNAME:AEDT
DTSTART:20201003T160000
END:DAYLIGHT
TZID:Australia/Melbourne
BEGIN:STANDARD
TZOFFSETFROM:+1100
TZOFFSETTO:+1000
TZNAME:AEST
DTSTART:20200404T160000
END:STANDARD
BEGIN:DAYLIGHT
TZOFFSETFROM:+1000
TZOFFSETTO:+1100
TZNAME:AEDT
DTSTART:20201003T160000
END:DAYLIGHT
TZID:Australia/Brisbane
BEGIN:STANDARD
TZOFFSETFROM:+1000
TZOFFSETTO:+1000
TZNAME:AEST
DTSTART:20200101T000000
END:STANDARD
TZID:Australia/Hobart
BEGIN:STANDARD
TZOFFSETFROM:+1100
TZOFFSETTO:+1000
TZNAME:AEST
DTSTART:20200404T160000
END:STANDARD
BEGIN:DAYLIGHT
TZOFFSETFROM:+1000
TZOFFSETTO:+1100
TZNAME:AEDT
DTSTART:20201003T160000
END:DAYLIGHT
TZID:Australia/Adelaide
BEGIN:STANDARD
TZOFFSETFROM:+1030
TZOFFSETTO:+0930
TZNAME:ACST
DTSTART:20200404T163000
END:STANDARD
BEGIN:DAYLIGHT
TZOFFSETFROM:+0930
TZOFFSETTO:+1030
TZNAME:ACDT
DTSTART:20201003T163000
END:DAYLIGHT
END:VTIMEZONE
BEGIN:VEVENT
DTSTART;TZID=Australia/Sydney:20200319T090000
DTEND;TZID=Australia/Sydney:20200320T170000
DTSTAMP:20200226T224709
CREATED:20190326T234101Z
LAST-MODIFIED:20191024T034320Z
UID:6328-1584608400-1584723600@wellnesswiseacademy.com.au
SUMMARY:Wellness Wise™ Practitioner – Sydney
DESCRIPTION:The Wellness Wise™ Practitioner (WWP) training program is designed to educate\, empower & inspire individuals to develop a successful & sustainable health & wellness strategy in the workplace. The program consists of an initial two-day intensive course\, followed by a 1-on-1 mentoring session to help participants implement key learnings back in the workplace. Learn more. \nDownload Sydney course venue information sheet here. \nRegister your attendance here. \n
URL:https://wellnesswiseacademy.com.au/event/wellness-wise-practitioner-sydney/
LOCATION:Bupa\, Level 14\, 255 George St.\, Sydney\, NSW\, 2000
END:VEVENT
BEGIN:VEVENT
DTSTART;TZID=Australia/Melbourne:20200326T090000
DTEND;TZID=Australia/Melbourne:20200327T170000
DTSTAMP:20200226T224709
CREATED:20181219T095821Z
LAST-MODIFIED:20191106T060635Z
UID:5734-1585213200-1585328400@wellnesswiseacademy.com.au
SUMMARY:Wellness Wise™ Practitioner – Melbourne
DESCRIPTION:The Wellness Wise™ Practitioner (WWP) training program is designed to educate\, empower & inspire individuals to develop a successful & sustainable health & wellness strategy in the workplace. The program consists of an initial two-day intensive course\, followed by a 1-on-1 mentoring session to help participants implement key learnings back in the workplace. Learn more. \nDownload Melbourne course venue information sheet here. \nRegister your attendance here. \n
URL:https://wellnesswiseacademy.com.au/event/wellness-wise-practitioner-melbourne/
LOCATION:Bupa\, 33 Exhibition Street\,\, Melbourne\,  VIC\,  3000 \, Australia
END:VEVENT
BEGIN:VEVENT
DTSTART;TZID=Australia/Brisbane:20200421T090000
DTEND;TZID=Australia/Brisbane:20200422T170000
DTSTAMP:20200226T224709
CREATED:20190513T031953Z
LAST-MODIFIED:20191024T034521Z
UID:6291-1587459600-1587574800@wellnesswiseacademy.com.au
SUMMARY:Wellness Wise™ Practitioner – Brisbane
DESCRIPTION:The Wellness Wise™ Practitioner (WWP) training program is designed to educate\, empower & inspire individuals to develop a successful & sustainable health & wellness strategy in the workplace. The program consists of an initial two-day intensive course\, followed by a 1-on-1 mentoring session to help participants implement key learnings back in the workplace. Learn more. \nDownload Brisbane course venue information sheet here. \nRegister your attendance here. \n
URL:https://wellnesswiseacademy.com.au/event/wellness-wise-practitioner-brisbane-2020/
LOCATION:Bupa\, Level 17/179 Turbot Street\, \, Brisbane\,  QLD \, 4000 \, Australia
END:VEVENT
BEGIN:VEVENT
DTSTART;TZID=Australia/Brisbane:20200428T110000
DTEND;TZID=Australia/Brisbane:20200428T120000
DTSTAMP:20200226T224709
CREATED:20200206T223244Z
LAST-MODIFIED:20200224T182943Z
UID:8873-1588071600-1588075200@wellnesswiseacademy.com.au
SUMMARY:Wellness Wise™ Webinar Series 2020: "The gentle art of buy-in: getting people onboard with your health and wellness strategy"
DESCRIPTION:Presented by Simon Dowling\, Collaborative Leadership Specialist \nYou have ideas. You have wellness projects and initiatives that you need to get off the ground. But here’s the rub — unless you can get others on board\, those ideas aren’t going anywhere. So how do you build willing and enthusiastic support for your ideas — where people work with you\, not because they have to\, but because they want to? \nIn this webinar Simon Dowling – author of Work with Me: How to get people to buy into your ideas  – will introduce you the 3M’s of influence and explain how you can start to: \n\ngenerate support for your  ideas\, regardless of your position\ndeal with pushback and resistance from stakeholders\nengage and align stakeholders around projects and initiatives\nturn agreement into sustainable action\nbuild strong relationships of influence.\n\nAbout Simon Dowling \nSimon Dowling is a leading thinker on creating and leading collaborative teams and workplaces. As a speaker\, facilitator and educator\, he works closely with leaders and teams from some of Australia’s most interesting organisations\, equipping them with the inspiration and know-how to build strong\, highly engaged teams. For the past 20 years\, Simon has been working with leaders across a wide range of industries\, helping them to tap the collective genius of their people. Simon is the author of Work with Me: How to get people to buy into your ideas (Wiley\, 2016). \n
URL:https://wellnesswiseacademy.com.au/event/wellness-wise-webinar-series-2020-the-gentle-art-of-buy-in-getting-people-onboard-with-your-health-and-wellness-strategy/
LOCATION:Webinar\, NSW
CATEGORIES:Webinars
END:VEVENT
BEGIN:VEVENT
DTSTART;TZID=Australia/Hobart:20200602T083000
DTEND;TZID=Australia/Hobart:20200603T170000
DTSTAMP:20200226T224709
CREATED:20200109T034451Z
LAST-MODIFIED:20200109T035040Z
UID:8681-1591086600-1591203600@wellnesswiseacademy.com.au
SUMMARY:Wellness Wise™ Practitioner – Hobart
DESCRIPTION:The Wellness Wise™ Practitioner (WWP) training program is designed to educate\, empower & inspire individuals to develop a successful & sustainable health & wellness strategy in the workplace. The program consists of an initial two-day intensive course\, followed by a 1-on-1 mentoring session to help participants implement key learnings back in the workplace. Learn more. \nDownload Hobart course venue information sheet here. \nRegister your attendance here. \n
URL:https://wellnesswiseacademy.com.au/event/wellness-wise-practitioner-hobart/
LOCATION:General Practice Training Tasmania\, RACT House 179 Murray Street\, \, Hobart\,  Tasmania \, 7000 \, Australia
END:VEVENT
BEGIN:VEVENT
DTSTART;TZID=Australia/Adelaide:20200701T083000
DTEND;TZID=Australia/Adelaide:20200702T170000
DTSTAMP:20200226T224709
CREATED:20190115T015353Z
LAST-MODIFIED:20191209T052145Z
UID:5853-1593592200-1593709200@wellnesswiseacademy.com.au
SUMMARY:Wellness Wise™ Practitioner – Adelaide
DESCRIPTION:The Wellness Wise™ Practitioner (WWP) training program is designed to educate\, empower & inspire individuals to develop a successful & sustainable health & wellness strategy in the workplace. The program consists of an initial two-day intensive course\, followed by a 1-on-1 mentoring session to help participants implement key learnings back in the workplace. Learn more. \nDownload Adelaide course venue information sheet here. \nRegister your attendance here. \n
URL:https://wellnesswiseacademy.com.au/event/wellness-wise-practitioner-adelaide/
LOCATION:Base64\, 64 North Terrace\,\, Kent Town\,\, AR\, 5067
END:VEVENT
END:VCALENDAR